BEGIN:VCALENDAR
VERSION:2.0
PRODID:-//Outdoor Council of Canada - ECPv6.15.20//NONSGML v1.0//EN
CALSCALE:GREGORIAN
METHOD:PUBLISH
X-WR-CALNAME:Outdoor Council of Canada
X-ORIGINAL-URL:https://outdoorcouncil.ca/fr/
X-WR-CALDESC:Évènements pour Outdoor Council of Canada
REFRESH-INTERVAL;VALUE=DURATION:PT1H
X-Robots-Tag:noindex
X-PUBLISHED-TTL:PT1H
BEGIN:VTIMEZONE
TZID:America/Edmonton
BEGIN:DAYLIGHT
TZOFFSETFROM:-0700
TZOFFSETTO:-0600
TZNAME:MDT
DTSTART:20250309T090000
END:DAYLIGHT
BEGIN:STANDARD
TZOFFSETFROM:-0600
TZOFFSETTO:-0700
TZNAME:MST
DTSTART:20251102T080000
END:STANDARD
BEGIN:DAYLIGHT
TZOFFSETFROM:-0700
TZOFFSETTO:-0600
TZNAME:MDT
DTSTART:20260308T090000
END:DAYLIGHT
BEGIN:STANDARD
TZOFFSETFROM:-0600
TZOFFSETTO:-0700
TZNAME:MST
DTSTART:20261101T080000
END:STANDARD
BEGIN:DAYLIGHT
TZOFFSETFROM:-0700
TZOFFSETTO:-0600
TZNAME:MDT
DTSTART:20270314T090000
END:DAYLIGHT
BEGIN:STANDARD
TZOFFSETFROM:-0600
TZOFFSETTO:-0700
TZNAME:MST
DTSTART:20271107T080000
END:STANDARD
END:VTIMEZONE
BEGIN:VEVENT
DTSTART;TZID=America/Edmonton:20260304T130000
DTEND;TZID=America/Edmonton:20260527T150000
DTSTAMP:20260420T040618
CREATED:20260305T180914Z
LAST-MODIFIED:20260305T180914Z
UID:10000467-1772629200-1779894000@outdoorcouncil.ca
SUMMARY:Maria Montessori Academy Field Leader course
DESCRIPTION:Course for Outdoor Education 11/12 students at MMA
URL:https://outdoorcouncil.ca/fr/event/maria-montessori-academy-field-leader-course/2026-03-04/2/
LOCATION:Ontario
ORGANIZER;CN="Lisa Heffernan":MAILTO:miss.lisa.h@mariamontessoriacademy.net
END:VEVENT
BEGIN:VEVENT
DTSTART;VALUE=DATE:20260315
DTEND;VALUE=DATE:20260615
DTSTAMP:20260420T040618
CREATED:20260315T171559Z
LAST-MODIFIED:20260315T171559Z
UID:10000469-1773532800-1781481599@outdoorcouncil.ca
SUMMARY:Field Leader Equine Course
DESCRIPTION:Hosted at Pioneer Ranch\, one of Alberta Pioneer Camp’s sites\, this course includes accommodation\, food\, and horse usage for the field component.
URL:https://outdoorcouncil.ca/fr/event/field-leader-equine-course/
LOCATION:Alberta Pioneer Camp\, Box 600\, Rocky Mountain House\, Alberta\, T7A 1R8\, Canada
ATTACH;FMTTYPE=image/jpeg:https://outdoorcouncil.ca/wp-content/uploads/2026/03/AW2024_SRG-178-scaled.jpg
ORGANIZER;CN="Jenny Al-Adra":MAILTO:jennyaladra@gmail.com
GEO:53.2231787;-114.9834766
X-APPLE-STRUCTURED-LOCATION;VALUE=URI;X-ADDRESS=Alberta Pioneer Camp Box 600 Rocky Mountain House Alberta T7A 1R8 Canada;X-APPLE-RADIUS=500;X-TITLE=Box 600:geo:-114.9834766,53.2231787
END:VEVENT
BEGIN:VEVENT
DTSTART;TZID=America/Edmonton:20260420T080000
DTEND;TZID=America/Edmonton:20260424T170000
DTSTAMP:20260420T040618
CREATED:20260227T182739Z
LAST-MODIFIED:20260305T184308Z
UID:10000463-1776672000-1777050000@outdoorcouncil.ca
SUMMARY:OCC Advanced Skills Certification 5- Days (Paddle • Overnight • Maps Certifications)
DESCRIPTION:Dates: April 20–24\nFocus Areas: Paddling • Overnight Leadership • Maps & Navigation \nThis 5-day intensive leadership training is designed for experienced outdoor practitioners looking to expand their competencies across multiple Outdoor Council of Canada (OCC) disciplines. The course combines classroom theory\, practical field application\, and competency assessments to support certification in Paddling Leadership\, Overnight Leadership\, and Maps & Navigation. \nUSE LINK FOR MORE DETAILED COURSE INFORMATION \nPrerequisites\n\n\nCompletion of the Outdoor Council of Canada (OCC) Hiking Field Leader certification \n\n\nActive OCC membership in good standing \n\n\n\nRegistration\, Materials & Community Pathway\nCourse materials\, manuals\, a detailed schedule\, and gear list will be emailed two weeks prior to the start date. \nParticipants who require clarification\, equipment coordination\, or accommodation support are encouraged to contact the instructor after registration to ensure a positive and well-prepared learning experience. \nUpon successful completion of the program\, students will be invited to join KOLA’s Community of Practice\, supporting mentorship\, leadership development\, and progression toward Terrain 2 and higher leadership qualifications.
URL:https://outdoorcouncil.ca/fr/event/occ-advanced-skills-certification-5-days-paddle-camp-maps-certifications/
LOCATION:Canmore\, Alberta\, Canmore\, Alberta\, Canada
ATTACH;FMTTYPE=image/jpeg:https://outdoorcouncil.ca/wp-content/uploads/2026/02/Untitled-design7.jpg
GEO:51.076260578571;-115.35752792611
END:VEVENT
END:VCALENDAR